BEGIN:VCALENDAR
VERSION:2.0
PRODID:-//IQ - ECPv6.8.3//NONSGML v1.0//EN
CALSCALE:GREGORIAN
METHOD:PUBLISH
X-WR-CALNAME:IQ
X-ORIGINAL-URL:https://iqsecurityproducts.com
X-WR-CALDESC:Events for IQ
REFRESH-INTERVAL;VALUE=DURATION:PT1H
X-Robots-Tag:noindex
X-PUBLISHED-TTL:PT1H
BEGIN:VTIMEZONE
TZID:America/Chicago
BEGIN:DAYLIGHT
TZOFFSETFROM:-0600
TZOFFSETTO:-0500
TZNAME:CDT
DTSTART:20180311T080000
END:DAYLIGHT
BEGIN:STANDARD
TZOFFSETFROM:-0500
TZOFFSETTO:-0600
TZNAME:CST
DTSTART:20181104T070000
END:STANDARD
END:VTIMEZONE
BEGIN:VEVENT
DTSTART;TZID=America/Chicago:20181119T110000
DTEND;TZID=America/Chicago:20181119T120000
DTSTAMP:20260423T202719
CREATED:20181030T185807Z
LAST-MODIFIED:20181030T185807Z
UID:5169-1542625200-1542628800@iqsecurityproducts.com
SUMMARY:Technical Webinar: Deep Dive on Z-Wave Lights
DESCRIPTION:MONDAY\, NOVEMBER 19 @ 11:00 AM PST \nGet all the technical details about Z-Wave Lights\, including:\n-Features and benefits of Z-Wave Lights\nTypes of Z-Wave Lighting\n-How to pair a Z-Wave Lights\n-Setting up schedules and automation\n-Troubleshooting common issues with Z-Wave Lights \nAsk questions\, give feedback and make comments live on the webinar!
URL:https://iqsecurityproducts.com/event/technical-webinar-deep-dive-on-z-wave-lights/
LOCATION:NV
END:VEVENT
END:VCALENDAR