BEGIN:VCALENDAR
VERSION:2.0
PRODID:-//IQ - ECPv6.8.3//NONSGML v1.0//EN
CALSCALE:GREGORIAN
METHOD:PUBLISH
X-ORIGINAL-URL:https://iqsecurityproducts.com
X-WR-CALDESC:Events for IQ
REFRESH-INTERVAL;VALUE=DURATION:PT1H
X-Robots-Tag:noindex
X-PUBLISHED-TTL:PT1H
BEGIN:VTIMEZONE
TZID:America/Chicago
BEGIN:DAYLIGHT
TZOFFSETFROM:-0600
TZOFFSETTO:-0500
TZNAME:CDT
DTSTART:20180311T080000
END:DAYLIGHT
BEGIN:STANDARD
TZOFFSETFROM:-0500
TZOFFSETTO:-0600
TZNAME:CST
DTSTART:20181104T070000
END:STANDARD
END:VTIMEZONE
BEGIN:VEVENT
DTSTART;TZID=America/Chicago:20181031T110000
DTEND;TZID=America/Chicago:20181031T120000
DTSTAMP:20260423T202754
CREATED:20181030T162943Z
LAST-MODIFIED:20181030T162943Z
UID:5164-1540983600-1540987200@iqsecurityproducts.com
SUMMARY:Distribution Webinar: IQ Panel 2 Plus Webinar
DESCRIPTION:Join Marketing Manager Whitney White to learn about the features of the new IQ Panel 2 Plus.\n-Dual SRF options\n-PowerG Encryption\n-Live View\n-Live Answer\n-Installation Wizard \nAttend to give feedback\, ask questions live and get a Qolsys polo!
URL:https://iqsecurityproducts.com/event/distribution-webinar-iq-panel-2-plus-webinar/
LOCATION:NV
END:VEVENT
END:VCALENDAR